BEGIN:VCALENDAR
VERSION:2.0
PRODID:-//Sacramento Zen - ECPv6.1.3//NONSGML v1.0//EN
CALSCALE:GREGORIAN
METHOD:PUBLISH
X-ORIGINAL-URL:https://sacramentozen.com
X-WR-CALDESC:Events for Sacramento Zen
REFRESH-INTERVAL;VALUE=DURATION:PT1H
X-Robots-Tag:noindex
X-PUBLISHED-TTL:PT1H
BEGIN:VTIMEZONE
TZID:UTC
BEGIN:STANDARD
TZOFFSETFROM:+0000
TZOFFSETTO:+0000
TZNAME:UTC
DTSTART:20280101T000000
END:STANDARD
END:VTIMEZONE
BEGIN:VEVENT
DTSTART;TZID=UTC:20280327T080000
DTEND;TZID=UTC:20280327T170000
DTSTAMP:20260422T111857
CREATED:20230807T174140Z
LAST-MODIFIED:20230807T174212Z
UID:10000504-1837756800-1837789200@sacramentozen.com
SUMMARY:Monday Morning Sitting
DESCRIPTION:We offer Zen meditation\, qigong and work practice each Monday morning at 7 PM.  Our zendo is behind a residence so please reach out on our contact page for instructions on how to find us.
URL:https://sacramentozen.com/event/monday-morning-sitting/2028-03-27/
LOCATION:Our Sacramento Zendo
END:VEVENT
BEGIN:VEVENT
DTSTART;TZID=UTC:20280403T080000
DTEND;TZID=UTC:20280403T170000
DTSTAMP:20260422T111857
CREATED:20230807T174140Z
LAST-MODIFIED:20230807T174212Z
UID:10000505-1838361600-1838394000@sacramentozen.com
SUMMARY:Monday Morning Sitting
DESCRIPTION:We offer Zen meditation\, qigong and work practice each Monday morning at 7 PM.  Our zendo is behind a residence so please reach out on our contact page for instructions on how to find us.
URL:https://sacramentozen.com/event/monday-morning-sitting/2028-04-03/
LOCATION:Our Sacramento Zendo
END:VEVENT
BEGIN:VEVENT
DTSTART;TZID=UTC:20280410T080000
DTEND;TZID=UTC:20280410T170000
DTSTAMP:20260422T111857
CREATED:20230807T174140Z
LAST-MODIFIED:20230807T174212Z
UID:10000506-1838966400-1838998800@sacramentozen.com
SUMMARY:Monday Morning Sitting
DESCRIPTION:We offer Zen meditation\, qigong and work practice each Monday morning at 7 PM.  Our zendo is behind a residence so please reach out on our contact page for instructions on how to find us.
URL:https://sacramentozen.com/event/monday-morning-sitting/2028-04-10/
LOCATION:Our Sacramento Zendo
END:VEVENT
BEGIN:VEVENT
DTSTART;TZID=UTC:20280417T080000
DTEND;TZID=UTC:20280417T170000
DTSTAMP:20260422T111857
CREATED:20230807T174140Z
LAST-MODIFIED:20230807T174212Z
UID:10000507-1839571200-1839603600@sacramentozen.com
SUMMARY:Monday Morning Sitting
DESCRIPTION:We offer Zen meditation\, qigong and work practice each Monday morning at 7 PM.  Our zendo is behind a residence so please reach out on our contact page for instructions on how to find us.
URL:https://sacramentozen.com/event/monday-morning-sitting/2028-04-17/
LOCATION:Our Sacramento Zendo
END:VEVENT
BEGIN:VEVENT
DTSTART;TZID=UTC:20280424T080000
DTEND;TZID=UTC:20280424T170000
DTSTAMP:20260422T111857
CREATED:20230807T174140Z
LAST-MODIFIED:20230807T174212Z
UID:10000508-1840176000-1840208400@sacramentozen.com
SUMMARY:Monday Morning Sitting
DESCRIPTION:We offer Zen meditation\, qigong and work practice each Monday morning at 7 PM.  Our zendo is behind a residence so please reach out on our contact page for instructions on how to find us.
URL:https://sacramentozen.com/event/monday-morning-sitting/2028-04-24/
LOCATION:Our Sacramento Zendo
END:VEVENT
BEGIN:VEVENT
DTSTART;TZID=UTC:20280501T080000
DTEND;TZID=UTC:20280501T170000
DTSTAMP:20260422T111857
CREATED:20230807T174140Z
LAST-MODIFIED:20230807T174212Z
UID:10000509-1840780800-1840813200@sacramentozen.com
SUMMARY:Monday Morning Sitting
DESCRIPTION:We offer Zen meditation\, qigong and work practice each Monday morning at 7 PM.  Our zendo is behind a residence so please reach out on our contact page for instructions on how to find us.
URL:https://sacramentozen.com/event/monday-morning-sitting/2028-05-01/
LOCATION:Our Sacramento Zendo
END:VEVENT
BEGIN:VEVENT
DTSTART;TZID=UTC:20280508T080000
DTEND;TZID=UTC:20280508T170000
DTSTAMP:20260422T111857
CREATED:20230807T174140Z
LAST-MODIFIED:20230807T174212Z
UID:10000510-1841385600-1841418000@sacramentozen.com
SUMMARY:Monday Morning Sitting
DESCRIPTION:We offer Zen meditation\, qigong and work practice each Monday morning at 7 PM.  Our zendo is behind a residence so please reach out on our contact page for instructions on how to find us.
URL:https://sacramentozen.com/event/monday-morning-sitting/2028-05-08/
LOCATION:Our Sacramento Zendo
END:VEVENT
BEGIN:VEVENT
DTSTART;TZID=UTC:20280515T080000
DTEND;TZID=UTC:20280515T170000
DTSTAMP:20260422T111857
CREATED:20230807T174140Z
LAST-MODIFIED:20230807T174212Z
UID:10000511-1841990400-1842022800@sacramentozen.com
SUMMARY:Monday Morning Sitting
DESCRIPTION:We offer Zen meditation\, qigong and work practice each Monday morning at 7 PM.  Our zendo is behind a residence so please reach out on our contact page for instructions on how to find us.
URL:https://sacramentozen.com/event/monday-morning-sitting/2028-05-15/
LOCATION:Our Sacramento Zendo
END:VEVENT
BEGIN:VEVENT
DTSTART;TZID=UTC:20280522T080000
DTEND;TZID=UTC:20280522T170000
DTSTAMP:20260422T111857
CREATED:20230807T174140Z
LAST-MODIFIED:20230807T174212Z
UID:10000512-1842595200-1842627600@sacramentozen.com
SUMMARY:Monday Morning Sitting
DESCRIPTION:We offer Zen meditation\, qigong and work practice each Monday morning at 7 PM.  Our zendo is behind a residence so please reach out on our contact page for instructions on how to find us.
URL:https://sacramentozen.com/event/monday-morning-sitting/2028-05-22/
LOCATION:Our Sacramento Zendo
END:VEVENT
BEGIN:VEVENT
DTSTART;TZID=UTC:20280529T080000
DTEND;TZID=UTC:20280529T170000
DTSTAMP:20260422T111857
CREATED:20230807T174140Z
LAST-MODIFIED:20230807T174212Z
UID:10000513-1843200000-1843232400@sacramentozen.com
SUMMARY:Monday Morning Sitting
DESCRIPTION:We offer Zen meditation\, qigong and work practice each Monday morning at 7 PM.  Our zendo is behind a residence so please reach out on our contact page for instructions on how to find us.
URL:https://sacramentozen.com/event/monday-morning-sitting/2028-05-29/
LOCATION:Our Sacramento Zendo
END:VEVENT
BEGIN:VEVENT
DTSTART;TZID=UTC:20280605T080000
DTEND;TZID=UTC:20280605T170000
DTSTAMP:20260422T111857
CREATED:20230807T174140Z
LAST-MODIFIED:20230807T174212Z
UID:10000514-1843804800-1843837200@sacramentozen.com
SUMMARY:Monday Morning Sitting
DESCRIPTION:We offer Zen meditation\, qigong and work practice each Monday morning at 7 PM.  Our zendo is behind a residence so please reach out on our contact page for instructions on how to find us.
URL:https://sacramentozen.com/event/monday-morning-sitting/2028-06-05/
LOCATION:Our Sacramento Zendo
END:VEVENT
BEGIN:VEVENT
DTSTART;TZID=UTC:20280612T080000
DTEND;TZID=UTC:20280612T170000
DTSTAMP:20260422T111857
CREATED:20230807T174140Z
LAST-MODIFIED:20230807T174212Z
UID:10000515-1844409600-1844442000@sacramentozen.com
SUMMARY:Monday Morning Sitting
DESCRIPTION:We offer Zen meditation\, qigong and work practice each Monday morning at 7 PM.  Our zendo is behind a residence so please reach out on our contact page for instructions on how to find us.
URL:https://sacramentozen.com/event/monday-morning-sitting/2028-06-12/
LOCATION:Our Sacramento Zendo
END:VEVENT
BEGIN:VEVENT
DTSTART;TZID=UTC:20280619T080000
DTEND;TZID=UTC:20280619T170000
DTSTAMP:20260422T111857
CREATED:20230807T174140Z
LAST-MODIFIED:20230807T174212Z
UID:10000516-1845014400-1845046800@sacramentozen.com
SUMMARY:Monday Morning Sitting
DESCRIPTION:We offer Zen meditation\, qigong and work practice each Monday morning at 7 PM.  Our zendo is behind a residence so please reach out on our contact page for instructions on how to find us.
URL:https://sacramentozen.com/event/monday-morning-sitting/2028-06-19/
LOCATION:Our Sacramento Zendo
END:VEVENT
BEGIN:VEVENT
DTSTART;TZID=UTC:20280626T080000
DTEND;TZID=UTC:20280626T170000
DTSTAMP:20260422T111857
CREATED:20230807T174140Z
LAST-MODIFIED:20230807T174212Z
UID:10000517-1845619200-1845651600@sacramentozen.com
SUMMARY:Monday Morning Sitting
DESCRIPTION:We offer Zen meditation\, qigong and work practice each Monday morning at 7 PM.  Our zendo is behind a residence so please reach out on our contact page for instructions on how to find us.
URL:https://sacramentozen.com/event/monday-morning-sitting/2028-06-26/
LOCATION:Our Sacramento Zendo
END:VEVENT
BEGIN:VEVENT
DTSTART;TZID=UTC:20280703T080000
DTEND;TZID=UTC:20280703T170000
DTSTAMP:20260422T111857
CREATED:20230807T174140Z
LAST-MODIFIED:20230807T174212Z
UID:10000518-1846224000-1846256400@sacramentozen.com
SUMMARY:Monday Morning Sitting
DESCRIPTION:We offer Zen meditation\, qigong and work practice each Monday morning at 7 PM.  Our zendo is behind a residence so please reach out on our contact page for instructions on how to find us.
URL:https://sacramentozen.com/event/monday-morning-sitting/2028-07-03/
LOCATION:Our Sacramento Zendo
END:VEVENT
BEGIN:VEVENT
DTSTART;TZID=UTC:20280710T080000
DTEND;TZID=UTC:20280710T170000
DTSTAMP:20260422T111857
CREATED:20230807T174140Z
LAST-MODIFIED:20230807T174212Z
UID:10000519-1846828800-1846861200@sacramentozen.com
SUMMARY:Monday Morning Sitting
DESCRIPTION:We offer Zen meditation\, qigong and work practice each Monday morning at 7 PM.  Our zendo is behind a residence so please reach out on our contact page for instructions on how to find us.
URL:https://sacramentozen.com/event/monday-morning-sitting/2028-07-10/
LOCATION:Our Sacramento Zendo
END:VEVENT
BEGIN:VEVENT
DTSTART;TZID=UTC:20280717T080000
DTEND;TZID=UTC:20280717T170000
DTSTAMP:20260422T111857
CREATED:20230807T174140Z
LAST-MODIFIED:20230807T174212Z
UID:10000520-1847433600-1847466000@sacramentozen.com
SUMMARY:Monday Morning Sitting
DESCRIPTION:We offer Zen meditation\, qigong and work practice each Monday morning at 7 PM.  Our zendo is behind a residence so please reach out on our contact page for instructions on how to find us.
URL:https://sacramentozen.com/event/monday-morning-sitting/2028-07-17/
LOCATION:Our Sacramento Zendo
END:VEVENT
BEGIN:VEVENT
DTSTART;TZID=UTC:20280724T080000
DTEND;TZID=UTC:20280724T170000
DTSTAMP:20260422T111857
CREATED:20230807T174140Z
LAST-MODIFIED:20230807T174212Z
UID:10000521-1848038400-1848070800@sacramentozen.com
SUMMARY:Monday Morning Sitting
DESCRIPTION:We offer Zen meditation\, qigong and work practice each Monday morning at 7 PM.  Our zendo is behind a residence so please reach out on our contact page for instructions on how to find us.
URL:https://sacramentozen.com/event/monday-morning-sitting/2028-07-24/
LOCATION:Our Sacramento Zendo
END:VEVENT
BEGIN:VEVENT
DTSTART;TZID=UTC:20280731T080000
DTEND;TZID=UTC:20280731T170000
DTSTAMP:20260422T111857
CREATED:20230807T174140Z
LAST-MODIFIED:20230807T174212Z
UID:10000522-1848643200-1848675600@sacramentozen.com
SUMMARY:Monday Morning Sitting
DESCRIPTION:We offer Zen meditation\, qigong and work practice each Monday morning at 7 PM.  Our zendo is behind a residence so please reach out on our contact page for instructions on how to find us.
URL:https://sacramentozen.com/event/monday-morning-sitting/2028-07-31/
LOCATION:Our Sacramento Zendo
END:VEVENT
BEGIN:VEVENT
DTSTART;TZID=UTC:20280807T080000
DTEND;TZID=UTC:20280807T170000
DTSTAMP:20260422T111857
CREATED:20230807T174140Z
LAST-MODIFIED:20230807T174212Z
UID:10000523-1849248000-1849280400@sacramentozen.com
SUMMARY:Monday Morning Sitting
DESCRIPTION:We offer Zen meditation\, qigong and work practice each Monday morning at 7 PM.  Our zendo is behind a residence so please reach out on our contact page for instructions on how to find us.
URL:https://sacramentozen.com/event/monday-morning-sitting/2028-08-07/
LOCATION:Our Sacramento Zendo
END:VEVENT
END:VCALENDAR